BEGIN:VCALENDAR
VERSION:2.0
PRODID:-//wp-events-plugin.com//6.6.5//EN
TZID:Europe/Zurich
X-WR-TIMEZONE:Europe/Zurich
BEGIN:VEVENT
UID:5626@iggh.ch
DTSTART;TZID=Europe/Zurich:20260618T090000
DTEND;TZID=Europe/Zurich:20260618T160000
DTSTAMP:20260423T085544Z
URL:https://www.iggh.ch/agenda/zmrb/
SUMMARY:Voranzeige zur Tagung: Die Rechte von Menschen mit Behinderungen
DESCRIPTION:Die Rechte von Menschen mit Behinderungen werden in der Schweiz
  politisch und gesellschaftlich intensiv diskutiert. Entscheide auf Bundes
 ebene\, in den Kantonen und in Gemeinden wirken sich direkt auf den Alltag
  aus. Sie betreffen etwa den Zugang zum Arbeitsmarkt\, die Wahl des Wohnor
 ts\, Unterstützungsangebote und die Möglichkeit\, das eigene Leben selbs
 tbestimmt zu gestalten.\nDie Tagung des ZRMB\, des Zentrums für die Recht
 e von Menschen mit Behinderungen\, greift diese Fragen auf und ordnet sie 
 fachlich ein. Vorgesehen sind Beiträge zum aktuellen Stand und zur Zukunf
 t der Inklusionsinitiative\, zur Haltung des Bundesrates sowie zu Entwickl
 ungen in einzelnen Kantonen.\nZugänglichkeit:\n\n\n 	Gebärdensprachdolme
 tschdienst DSGS und LSF\n 	Schriftdolmetschdienst\n 	Induktive Höranlage 
 in der Aula der Universität Basel.\n\nLink zur ZRMB\n\nFoto: NJ Lanzadera
 s\, pexels.com
ATTACH;FMTTYPE=image/jpeg:https://www.iggh.ch/wp-content/uploads/2026/04/Z
 RMB_Logo-2048x1041-1.png
CATEGORIES:Gebärdensprache DSGS,Gebärdensprache LSF,Induktive
 Höranlage,Kulturelle Veranstaltung,Partnerorganisation
END:VEVENT
BEGIN:VTIMEZONE
TZID:Europe/Zurich
X-LIC-LOCATION:Europe/Zurich
BEGIN:DAYLIGHT
DTSTART:20260329T030000
TZOFFSETFROM:+0100
TZOFFSETTO:+0200
TZNAME:CEST
END:DAYLIGHT
END:VTIMEZONE
END:VCALENDAR