BEGIN:VCALENDAR
VERSION:2.0
PRODID:-//wp-events-plugin.com//6.6.5//EN
TZID:Europe/Zurich
X-WR-TIMEZONE:Europe/Zurich
BEGIN:VEVENT
UID:4730@iggh.ch
DTSTART;TZID=Europe/Zurich:20250423T160000
DTEND;TZID=Europe/Zurich:20250423T180000
DTSTAMP:20250407T093648Z
URL:https://www.iggh.ch/agenda/workshop-myprocom/
SUMMARY:Infoanlass "myPROCOM"
DESCRIPTION:Der Infoanlass "myPROCOM" findet von 16.00 bis 18.00 Uhr statt.
 \n\nDie App "myPROCOM" ist für gehörlose und schwerhörige Menschen. Mit
  myPROCOM kannst du mit hörenden Telefonieren. - Wie? Über Video-Vermitt
 lung oder Text-Vermittlung. In diesem Workshop hat es Platz für alle Frag
 en zur App.\n\nVon PROCOM kommen Lilian Fritz und Fréderic Bernath.\n\nWe
 itere Informationen zum Workshop sind hier: Infoanlass MyPROCOM | BFSUG 
 – Beratung für Schwerhörige und Gehörlose\n\nEin Video in Gebärdensp
 rache zu diesem Anlass ist hier: Infoanlass MyPROCOM 23.04.2025
CATEGORIES:Veranstaltung
END:VEVENT
BEGIN:VTIMEZONE
TZID:Europe/Zurich
X-LIC-LOCATION:Europe/Zurich
BEGIN:DAYLIGHT
DTSTART:20250330T030000
TZOFFSETFROM:+0100
TZOFFSETTO:+0200
TZNAME:CEST
END:DAYLIGHT
END:VTIMEZONE
END:VCALENDAR