BEGIN:VCALENDAR
VERSION:2.0
PRODID:-//wp-events-plugin.com//6.6.5//EN
TZID:Europe/Zurich
X-WR-TIMEZONE:Europe/Zurich
BEGIN:VEVENT
UID:2742@iggh.ch
DTSTART;TZID=Europe/Zurich:20240127T084500
DTEND;TZID=Europe/Zurich:20240127T084500
DTSTAMP:20240122T120147Z
URL:https://www.iggh.ch/agenda/winterwandern/
SUMMARY:GVB - Winterwandern
DESCRIPTION:Flyer _Anmeldung\n\nWandern im Schnee oder im Grünen\n\nLeitun
 g: Präsidentin Yvonne Zaugg
CATEGORIES:Veranstaltung
END:VEVENT
BEGIN:VTIMEZONE
TZID:Europe/Zurich
X-LIC-LOCATION:Europe/Zurich
BEGIN:STANDARD
DTSTART:20231029T020000
TZOFFSETFROM:+0200
TZOFFSETTO:+0100
TZNAME:CET
END:STANDARD
END:VTIMEZONE
END:VCALENDAR