BEGIN:VCALENDAR
VERSION:2.0
PRODID:-//wp-events-plugin.com//6.6.5//EN
TZID:Europe/Zurich
X-WR-TIMEZONE:Europe/Zurich
BEGIN:VEVENT
UID:3827@iggh.ch
DTSTART;TZID=Europe/Zurich:20231212T183000
DTEND;TZID=Europe/Zurich:20231212T183000
DTSTAMP:20231204T085141Z
URL:https://www.iggh.ch/agenda/wfd/
SUMMARY:Webinar LSF: Aktuelles vom Weltkongress der Gehörlosen
DESCRIPTION:Die Referenten waren in Südkorea und berichten im Webinar übe
 r die Trends für die Zukunft:\n\n 	Tatjana Binggeli\, Geschäftsführerin
  Schweizerischer Gehörlosenbund SGB-FSS\n 	Ruedi Graf\, Leiter Regionen D
 eutschschweiz und italienische Schweiz\, SGB-FSS\n 	Katia Pahud\, Swiss de
 af Young SDY\n\nKommunikation in Gebärdensprache.\n\n 	Webinar in Gebärd
 ensprache LSF: 12. Dezember 2023\, 18.30 – 20.30 Uhr\n 	Webinar in Gebä
 rdensprache DSGS/LIS: 13. Dezember 2023\, 18.30 - 20.30 Uhr\n\nAnmeldeschl
 uss: 09. Dezember 2023\n\nAnmeldung beim www.sgb-fss.ch\n\n\nPDF Flyer Web
 inar
ATTACH;FMTTYPE=image/jpeg:https://www.iggh.ch/wp-content/uploads/2023/12/S
 creenshot-2023-12-04-092226.png
CATEGORIES:Gebärdensprach-Dolmetschdienst,Kulturelle Veranstaltung
END:VEVENT
BEGIN:VTIMEZONE
TZID:Europe/Zurich
X-LIC-LOCATION:Europe/Zurich
BEGIN:STANDARD
DTSTART:20231029T020000
TZOFFSETFROM:+0200
TZOFFSETTO:+0100
TZNAME:CET
END:STANDARD
END:VTIMEZONE
END:VCALENDAR