BEGIN:VCALENDAR
VERSION:2.0
PRODID:-//wp-events-plugin.com//6.6.5//EN
TZID:Europe/Zurich
X-WR-TIMEZONE:Europe/Zurich
BEGIN:VEVENT
UID:3047@iggh.ch
DTSTART;TZID=Europe/Zurich:20231122T150000
DTEND;TZID=Europe/Zurich:20231122T150000
DTSTAMP:20230522T111124Z
URL:https://www.iggh.ch/agenda/treffpunkt-fuer-schwerhoerige-und-gehoerlos
 e-die-ihr-heimatland-verlassen-haben-4/
SUMMARY:Treffpunkt für Schwerhörige und Gehörlose\, die ihr Heimatland v
 erlassen haben
DESCRIPTION:Treffpunkt für Schwerhörige und Gehörlose Menschen\, die ihr
  Heimatland verlassen haben.\n\nDas Zeil\, neue Leute kennenzulernen\, uns
  miteinander auszutauschen und Fragen zu beantworten. Es gibt Tee und Kaff
 ee.\n\nZeit: 15.00 Uhr bis 18.00 Uhr\n\nOrt: Walkerhaus\, Belpstrasse 24
 \, 3007 Bern\n\nWann: Mittwoch\, 22 November 2023\n\nWir freuen uns\, euch
  zu sehen!
CATEGORIES:Partnerorganisation
END:VEVENT
BEGIN:VTIMEZONE
TZID:Europe/Zurich
X-LIC-LOCATION:Europe/Zurich
BEGIN:STANDARD
DTSTART:20231029T020000
TZOFFSETFROM:+0200
TZOFFSETTO:+0100
TZNAME:CET
END:STANDARD
END:VTIMEZONE
END:VCALENDAR