BEGIN:VCALENDAR
VERSION:2.0
PRODID:-//wp-events-plugin.com//6.6.5//EN
TZID:Europe/Zurich
X-WR-TIMEZONE:Europe/Zurich
BEGIN:VEVENT
UID:2664@iggh.ch
DTSTART;TZID=Europe/Zurich:20220711T200000
DTEND;TZID=Europe/Zurich:20220711T200000
DTSTAMP:20230203T150608Z
URL:https://www.iggh.ch/agenda/thunerseespiele-mit-hoeranlage-vom-12-juli-
 bis-26-august-2023/
SUMMARY:Thunerseespiele mit Höranlage vom 12. Juli bis 26. August 2023
DESCRIPTION:Die Geschichte handelt vom Berner Stadtoriginal Dällebach Kari
 . Wegen seiner Hasenscharte und dem damit verbundenen Sprachfehler wurde K
 ari Zeit seines Lebens ausgegrenzt. Mit beissendem Witz kämpfte der Coiff
 eurmeister um Anerkennung. Im Jahr 1900 eröffnete Kari an der Berner Neue
 ngasse seinen Friseursalon und verliebte sich in die Fabrikantentochter An
 nemarie. Endlich schien er sein Glück gefunden zu haben. Doch als Annemar
 ies Eltern die Beziehung verboten\, suchte Kari im Alkohol Trost. Obwohl s
 ich die Liebesgeschichte von Annemarie und Kari nach einigen Umwegen doch 
 noch zum Guten wandte\, kam der berühmte Berner nie ganz von der Flasche 
 los. Nach seinem Tod lebt er als Legende weiter\, und die Bernerinnen und 
 Berner zelebrieren auch heute noch seine Witze.\nInformation der Thunersee
 spiele\nFür Gäste mit Hörbehinderung steht in den Sektoren D und E\, Re
 ihen 2–17 Hörunterstützung über die App «Sennheiser MobileConnect» 
 zur Verfügung. Diese kann über das eigene Smartphone genutzt werden. Das
  System ist über die gesamte Spielzeit aktiv\, vom 12. Juli bis 26. Augus
 t 2022.\n\nBitte laden Sie sich schon daheim die kostenlose App «MobileCo
 nnect» von Sennheiser auf Ihr Smartphone. Sorgen Sie für einen möglichs
 t aufgeladenen Akku und bringen Sie passende Kopfhörer mit. Auf dem Gelä
 nde stellen Sie den Flugmodus ein und die Verbindung zum WLAN «MobileConn
 ect» her. Wählen Sie «Originalton» und passen Sie je nach Wunsch die p
 ersönlichen Audio-Einstellungen an.\n\nWeitere Informationen zu «MobileC
 onnect» finden Sie im Video.\n\nBei Fragen stehen Ihnen unser Verkaufstea
 m und unsere Mitarbeitenden vor Ort gerne zur Verfügung.\n\nLink zu weite
 ren Informationen der Thunerseespiele.
ATTACH;FMTTYPE=image/jpeg:https://www.iggh.ch/wp-content/uploads/2022/12/D
 K_KeyVisual_A4_quer_300dpi_rgb_Datum-scaled.jpg
CATEGORIES:Höranlage (Smartphone App),Kulturelle
 Veranstaltung,Partnerorganisation
END:VEVENT
BEGIN:VTIMEZONE
TZID:Europe/Zurich
X-LIC-LOCATION:Europe/Zurich
BEGIN:DAYLIGHT
DTSTART:20220327T030000
TZOFFSETFROM:+0100
TZOFFSETTO:+0200
TZNAME:CEST
END:DAYLIGHT
END:VTIMEZONE
END:VCALENDAR