BEGIN:VCALENDAR
VERSION:2.0
PRODID:-//wp-events-plugin.com//6.6.5//EN
TZID:Europe/Zurich
X-WR-TIMEZONE:Europe/Zurich
BEGIN:VEVENT
UID:738@iggh.ch
DTSTART;TZID=Europe/Zurich:20211008T170000
DTEND;TZID=Europe/Zurich:20211008T170000
DTSTAMP:20210930T132021Z
URL:https://www.iggh.ch/agenda/tabuthema-thema-geld-als-sucht/
SUMMARY:Tabuthema\, Thema: Geld als Sucht
DESCRIPTION:
CATEGORIES:Veranstaltung
END:VEVENT
BEGIN:VTIMEZONE
TZID:Europe/Zurich
X-LIC-LOCATION:Europe/Zurich
BEGIN:DAYLIGHT
DTSTART:20210328T030000
TZOFFSETFROM:+0100
TZOFFSETTO:+0200
TZNAME:CEST
END:DAYLIGHT
END:VTIMEZONE
END:VCALENDAR