BEGIN:VCALENDAR
VERSION:2.0
PRODID:-//wp-events-plugin.com//6.6.5//EN
TZID:Europe/Zurich
X-WR-TIMEZONE:Europe/Zurich
BEGIN:VEVENT
UID:2663@iggh.ch
DTSTART;TZID=Europe/Zurich:20230126T180000
DTEND;TZID=Europe/Zurich:20230126T180000
DTSTAMP:20230208T104545Z
URL:https://www.iggh.ch/agenda/stadtgalerie-bern-cantonale-berne-jura-in-g
 ebaerdensprache/
SUMMARY:Stadtgalerie Bern: Cantonale Berne Jura in Gebärdensprache
DESCRIPTION:Eine grosse Ausstellung mit Werken von aufstrebenden Künstler:
 innen präsentiert die Stadtgalerie Bern unter dem Titel «Cantonale Berne
  Jura».\n\n\nCantonale Berne Jura 2022 \n23.12.2022–28.01.2023\n\n\nAus
 gestellte Künstler:innen:\nCeline Aernoudt &amp\; Emile Van Helleputte\, 
 Nadine K. Cenoz\, Raffaella Chiara\, Jean-Marie Egger\, Simon Fahrni\, Tob
 ias Hauswirth\, Pia Heim\, Daniel Kurth\, Sapir Kesem Leary\, Selina Lutz\
 , Lea Luzifer\, Hans-Jörg Moning\, Guadalupe Ruiz &amp\; Janosch Perler\,
  Marius Steiger\, Sandra Steiner-Strütt\, Christoph Studer\, Jan van Oord
 t\, Darko Vulic\, Luan Weber\, Hannes Zulauf.\n\n\nMehr Informationen unte
 r www.stadtgalerie.ch
ATTACH;FMTTYPE=image/jpeg:https://www.iggh.ch/wp-content/uploads/2022/12/c
 an_2119_cantonale2122.png
CATEGORIES:Gebärdensprache DSGS,Kulturelle Veranstaltung
END:VEVENT
BEGIN:VTIMEZONE
TZID:Europe/Zurich
X-LIC-LOCATION:Europe/Zurich
BEGIN:STANDARD
DTSTART:20221030T020000
TZOFFSETFROM:+0200
TZOFFSETTO:+0100
TZNAME:CET
END:STANDARD
END:VTIMEZONE
END:VCALENDAR