BEGIN:VCALENDAR
VERSION:2.0
PRODID:-//wp-events-plugin.com//6.6.5//EN
TZID:Europe/Zurich
X-WR-TIMEZONE:Europe/Zurich
BEGIN:VEVENT
UID:1716@iggh.ch
DTSTART;TZID=Europe/Zurich:20220122T100000
DTEND;TZID=Europe/Zurich:20220122T100000
DTSTAMP:20220202T080917Z
URL:https://www.iggh.ch/agenda/sporttag-des-jugendtreff-eagle-eye/
SUMMARY:Sporttag des Jugendtreff Eagle Eye
DESCRIPTION:Überregionales Angebot für junge Hörbehinderte in der Turnha
 lle Landenhof\, Aarau.\n\nEinfach Bild QR-Code Scannen und mehr erfahren!\
 n\n
ATTACH;FMTTYPE=image/jpeg:https://www.iggh.ch/wp-content/uploads/2022/01/J
 ugendtreff_22.Jan_.2022.jpg
CATEGORIES:Partnerorganisation
END:VEVENT
BEGIN:VTIMEZONE
TZID:Europe/Zurich
X-LIC-LOCATION:Europe/Zurich
BEGIN:STANDARD
DTSTART:20211031T020000
TZOFFSETFROM:+0200
TZOFFSETTO:+0100
TZNAME:CET
END:STANDARD
END:VTIMEZONE
END:VCALENDAR