BEGIN:VCALENDAR
VERSION:2.0
PRODID:-//wp-events-plugin.com//6.6.5//EN
TZID:Europe/Zurich
X-WR-TIMEZONE:Europe/Zurich
BEGIN:VEVENT
UID:5624@iggh.ch
DTSTART;TZID=Europe/Zurich:20260501T180000
DTEND;TZID=Europe/Zurich:20260501T180000
DTSTAMP:20260422T152716Z
URL:https://www.iggh.ch/agenda/sonnendeck/
SUMMARY:Stadtgalerie Bern: Sonnendeck\, Rosengarten\, WC Welle-7
DESCRIPTION:Die Stadtgalerie Bern widmet sich mit dieser Gruppenausstellung
  der Magie städtischer Begegnungen. Im Zentrum stehen Orte in Bern\, an d
 enen Nähe\, Begehren und Gemeinschaft entstehen und sichtbar wird\, wie S
 tadt Räume ermöglicht\, begrenzt oder verdrängt.\nDie Ausstellung fragt
 \, wer in der Stadt Platz hat und wie queere\, migrantisierte und arme Com
 munities Raum behaupten. Ein Rundgang mit Übersetzung in Gebärdensprache
  findet am Donnerstag\, 14.05.2026\, um 18 Uhr statt.\nRundgang mit Übers
 etzung in Gebärdensprache.\n\nWeitere Informationen auf www.stadtgalerie.
 ch
ATTACH;FMTTYPE=image/jpeg:https://www.iggh.ch/wp-content/uploads/2026/04/S
 creenshot-2026-04-22-171805.jpg
CATEGORIES:Gebärdensprache DSGS,Kulturelle Veranstaltung
END:VEVENT
BEGIN:VTIMEZONE
TZID:Europe/Zurich
X-LIC-LOCATION:Europe/Zurich
BEGIN:DAYLIGHT
DTSTART:20260329T030000
TZOFFSETFROM:+0100
TZOFFSETTO:+0200
TZNAME:CEST
END:DAYLIGHT
END:VTIMEZONE
END:VCALENDAR