BEGIN:VCALENDAR
VERSION:2.0
PRODID:-//wp-events-plugin.com//6.6.5//EN
TZID:Europe/Zurich
X-WR-TIMEZONE:Europe/Zurich
BEGIN:VEVENT
UID:5627@iggh.ch
DTSTART;TZID=Europe/Zurich:20260508T190000
DTEND;TZID=Europe/Zurich:20260508T190000
DTSTAMP:20260424T143311Z
URL:https://www.iggh.ch/agenda/sonnendeck-2/
SUMMARY:Podiumsgespräch: Inklusion – Eine Schule für alle: Realität od
 er Ideal?
DESCRIPTION:Inklusion bedeutet mehr als gemeinsamer Unterricht: Sie steht f
 ür das Recht aller Kinder\, unabhängig von Fähigkeiten\, Herkunft oder 
 Unterstützungsbedarf gleichberechtigt am Schulalltag teilzuhaben. Doch zw
 ischen Anspruch und Wirklichkeit liegen Herausforderungen: knappe Ressourc
 en\, hohe Erwartungen und Strukturen\, die noch nicht für alle gemacht si
 nd.\n\nAuf Anmeldung mit Übersetzung in Gebärdensprache und mit Live-Unt
 ertitelung.\n\n
ATTACH;FMTTYPE=image/jpeg:https://www.iggh.ch/wp-content/uploads/2026/04/S
 creenshot-2026-04-24-162119.jpg
CATEGORIES:Gebärdensprache DSGS,Kulturelle Veranstaltung
END:VEVENT
BEGIN:VTIMEZONE
TZID:Europe/Zurich
X-LIC-LOCATION:Europe/Zurich
BEGIN:DAYLIGHT
DTSTART:20260329T030000
TZOFFSETFROM:+0100
TZOFFSETTO:+0200
TZNAME:CEST
END:DAYLIGHT
END:VTIMEZONE
END:VCALENDAR