BEGIN:VCALENDAR
VERSION:2.0
PRODID:-//wp-events-plugin.com//6.6.5//EN
TZID:Europe/Zurich
X-WR-TIMEZONE:Europe/Zurich
BEGIN:VEVENT
UID:3499@iggh.ch
DTSTART;TZID=Europe/Zurich:20240126T180000
DTEND;TZID=Europe/Zurich:20240126T180000
DTSTAMP:20240131T094433Z
URL:https://www.iggh.ch/agenda/snowox-day-2024-das-wintererlebnis-des-jahr
 es/
SUMMARY:AKTUALISIERT: SNOW'OX DAY 2024 – Das Wintererlebnis des Jahres!
DESCRIPTION:Zum 85. Jubiläum des Gehörlosenvereins Wallis GVW/SSV verwand
 elt sich das Skigebiet Vercorin vom 26. bis 28. Januar 2024 in ein Winterp
 aradies für alle. Ob Ski alpin\, Skitouren\, Langlauf oder Schneeschuhwan
 dern – es ist für jeden etwas dabei! Neben rasanten Rennen erwarten Sie
  vielfältige Aktivitäten und kulinarische Highlights. Teilen Sie das Abe
 nteuer mit Freunden und Familie und geniessen Sie einen unvergesslichen Ta
 g voller Spass und Gemeinschaft.\n\nAktualisierter Anmeldeschluss ist der 
 10. Januar 2024 statt 15. Dezember 2023.\n\n\nPDF Flyer SNOW'OX DAY 2024 (
 Aktualisiert)
ATTACH;FMTTYPE=image/jpeg:https://www.iggh.ch/wp-content/uploads/2023/10/S
 creenshot-2023-10-20-093102.png
CATEGORIES:Gebärdensprache,Kulturelle Veranstaltung
END:VEVENT
BEGIN:VTIMEZONE
TZID:Europe/Zurich
X-LIC-LOCATION:Europe/Zurich
BEGIN:STANDARD
DTSTART:20231029T020000
TZOFFSETFROM:+0200
TZOFFSETTO:+0100
TZNAME:CET
END:STANDARD
END:VTIMEZONE
END:VCALENDAR