BEGIN:VCALENDAR
VERSION:2.0
PRODID:-//wp-events-plugin.com//6.6.5//EN
TZID:Europe/Zurich
X-WR-TIMEZONE:Europe/Zurich
BEGIN:VEVENT
UID:3121@iggh.ch
DTSTART;TZID=Europe/Zurich:20230818T170000
DTEND;TZID=Europe/Zurich:20230818T170000
DTSTAMP:20230613T120104Z
URL:https://www.iggh.ch/agenda/schlaue-fuechse-generation-50-plus-6/
SUMMARY:Schlaue Füchse - Generation 50 Plus
DESCRIPTION:Schifffahrt in Solothurn-Biel\n\n 	Freitag\, 18. August 2023\n 
 	\n 	Beginn: 17:00\n\nmit Diakon Andreas Fankhauser und Cornelia Knuchel\n
 \nFlyer folgt\n\n&nbsp\;\n\nInformationen:\nHöhrbehindertengemeinde Bern\
 nHaus der Kirche\, Altenbergstrasse 66\, 3000 Bern\n031 340 24 24\nSMS 079
  811 34 64\nhbg@refbejuso.ch\nwww.refbejuso.ch/hbg\nwww.gebaerdenkirche.ch
CATEGORIES:Partnerorganisation
END:VEVENT
BEGIN:VTIMEZONE
TZID:Europe/Zurich
X-LIC-LOCATION:Europe/Zurich
BEGIN:DAYLIGHT
DTSTART:20230326T030000
TZOFFSETFROM:+0100
TZOFFSETTO:+0200
TZNAME:CEST
END:DAYLIGHT
END:VTIMEZONE
END:VCALENDAR