BEGIN:VCALENDAR
VERSION:2.0
PRODID:-//wp-events-plugin.com//6.6.5//EN
TZID:Europe/Zurich
X-WR-TIMEZONE:Europe/Zurich
BEGIN:VEVENT
UID:2312@iggh.ch
DTSTART;TZID=Europe/Zurich:20220819T103000
DTEND;TZID=Europe/Zurich:20220819T103000
DTSTAMP:20220804T092014Z
URL:https://www.iggh.ch/agenda/schlaue-fuechse-generation-50-plus-3/
SUMMARY:Schlaue Füchse – Generation 50 plus
DESCRIPTION:Ausflug St. Petersinsel\n\nAnmeldung: Frist verlängert bis Mo
 ntag\, 8. August 2022\, 12.00 Uhr\nper SMS oder E-Mail an die Gebärdenkir
 che mit Name\, Vorname\, Telefonnummer\, Menüwahl und Anzahl TeilnehmerIn
 nen.\nBitte melden Sie uns ob Sie ein Halbtax oder GA besitzen.\nMenüwahl
 :\nVegi oder Fisch\nUnkostenbeitrag CHF 50.– pro Person (inkl. Schifffah
 rt und Menü)\n\nWir freuen uns auf einen schönen Ausflug mit euch. Micha
 el Porret\, Cornelia Knuchel und Andreas Fankhauser\n\nGeheimtipp: Badesac
 hen mitnehmen
CATEGORIES:Veranstaltung
END:VEVENT
BEGIN:VTIMEZONE
TZID:Europe/Zurich
X-LIC-LOCATION:Europe/Zurich
BEGIN:DAYLIGHT
DTSTART:20220327T030000
TZOFFSETFROM:+0100
TZOFFSETTO:+0200
TZNAME:CEST
END:DAYLIGHT
END:VTIMEZONE
END:VCALENDAR