BEGIN:VCALENDAR
VERSION:2.0
PRODID:-//wp-events-plugin.com//6.6.5//EN
TZID:Europe/Zurich
X-WR-TIMEZONE:Europe/Zurich
BEGIN:VEVENT
UID:4581@iggh.ch
DTSTART;TZID=Europe/Zurich:20250830T100000
DTEND;TZID=Europe/Zurich:20250830T160000
DTSTAMP:20250909T072153Z
URL:https://www.iggh.ch/agenda/save-the-date-jugendtreff-eagle-eye-2-2/
SUMMARY:Jugendtreff Eagle Eye: Discgolf auf dem Gurten
DESCRIPTION:Wir toben auf dem Gurten aus! Am 30. August 2025 lädt der Juge
 ndtreff Eagle Eye alle hörbehinderten Jugendlichen ein.\n\nTreffpunkt ist
  um 10.00 Uhr am Bahnhof Bern beim imposanten Würfel. Bis 16.00 Uhr werde
 n wir gemeinsam Discgolf spielen und dabei die wunderschöne Aussicht auf 
 Bern geniessen. Sei dabei und erlebe einen unvergesslichen Tag voller Spor
 t und Spass!\n\nMehr Informationen und Anmeldung: www.eagleeye-treff.ch
ATTACH;FMTTYPE=image/jpeg:https://www.iggh.ch/wp-content/uploads/2025/01/3
 0.-August-2025-Jugendtreff-Eagle-Eye_20250729_201247_0000.jpg
CATEGORIES:Jugendtreff,Kulturelle Veranstaltung
END:VEVENT
BEGIN:VTIMEZONE
TZID:Europe/Zurich
X-LIC-LOCATION:Europe/Zurich
BEGIN:DAYLIGHT
DTSTART:20250330T030000
TZOFFSETFROM:+0100
TZOFFSETTO:+0200
TZNAME:CEST
END:DAYLIGHT
END:VTIMEZONE
END:VCALENDAR