BEGIN:VCALENDAR
VERSION:2.0
PRODID:-//wp-events-plugin.com//6.6.5//EN
TZID:Europe/Zurich
X-WR-TIMEZONE:Europe/Zurich
BEGIN:VEVENT
UID:3809@iggh.ch
DTSTART;TZID=Europe/Zurich:20231203T163000
DTEND;TZID=Europe/Zurich:20231203T163000
DTSTAMP:20231204T083042Z
URL:https://www.iggh.ch/agenda/podiumsgespraech-25-jahre-beweggrund-mit-gs
 -dolmetschdienst/
SUMMARY:Podiumsgespräch 25 Jahre Beweggrund mit GS-Dolmetschdienst
DESCRIPTION:Ein Gespräch über Leidenschaft\, Kunst und Inklusion mit Mich
 ael Fehr\, Mirjam Gasser\, Florian Favre\, Alex Oberholzer und Susanne Sch
 neider.\n\nPodiumsgespräch in der Heiteren Fahne\, Dorfstrasse 22/24\, 30
 84 Wabern.\n\nPDF Flyer Podiumsgespräch
ATTACH;FMTTYPE=image/jpeg:https://www.iggh.ch/wp-content/uploads/2023/11/S
 creenshot-2023-11-15-135721.png
CATEGORIES:Gebärdensprach-Dolmetschdienst,Kulturelle Veranstaltung
END:VEVENT
BEGIN:VTIMEZONE
TZID:Europe/Zurich
X-LIC-LOCATION:Europe/Zurich
BEGIN:STANDARD
DTSTART:20231029T020000
TZOFFSETFROM:+0200
TZOFFSETTO:+0100
TZNAME:CET
END:STANDARD
END:VTIMEZONE
END:VCALENDAR