BEGIN:VCALENDAR
VERSION:2.0
PRODID:-//wp-events-plugin.com//6.6.5//EN
TZID:Europe/Zurich
X-WR-TIMEZONE:Europe/Zurich
BEGIN:VEVENT
UID:3813@iggh.ch
DTSTART;TZID=Europe/Zurich:20231120T173000
DTEND;TZID=Europe/Zurich:20231120T173000
DTSTAMP:20231117T083852Z
URL:https://www.iggh.ch/agenda/online-sprechstunde-cochlea-implantat-2/
SUMMARY:Online-Sprechstunde Cochlea Implantat
DESCRIPTION:Hören Sie trotz Hörgerät nicht mehr gut? Überlegen Sie\, ob
  ein Cochlea-Implantat (CI) für Sie in Frage kommt? Oder beschäftigt sic
 h jemand in Ihrem Umfeld mit dieser Frage?\n\nFachpersonen aus Medizin ode
 r Audiologie erklären in der «Online-Sprechstunde CI»\, worauf es beim 
 Cochlea-Implantat ankommt\, wie eine Operation abläuft und wie es nach de
 m Eingriff weitergeht. Zudem erzählt eine Person mit Cochlea-Implantat\, 
 wie sie den Weg erlebt hat. Natürlich bleibt auch genügend Zeit für Ihr
 e Fragen. \n\nWährend dem Webinar schreibt ein Schriftdolmetschdienst li
 ve mit.\n\nAnmeldung bei Pro Audito Schweiz
ATTACH;FMTTYPE=image/jpeg:https://www.iggh.ch/wp-content/uploads/2023/11/C
 I-Sprechstunde-Bannerbild_mobil.png
CATEGORIES:Live-Mitschrift,Vortrag,Webinar
END:VEVENT
BEGIN:VTIMEZONE
TZID:Europe/Zurich
X-LIC-LOCATION:Europe/Zurich
BEGIN:STANDARD
DTSTART:20231029T020000
TZOFFSETFROM:+0200
TZOFFSETTO:+0100
TZNAME:CET
END:STANDARD
END:VTIMEZONE
END:VCALENDAR