BEGIN:VCALENDAR
VERSION:2.0
PRODID:-//wp-events-plugin.com//6.6.5//EN
TZID:Europe/Zurich
X-WR-TIMEZONE:Europe/Zurich
BEGIN:VEVENT
UID:2665@iggh.ch
DTSTART;TZID=Europe/Zurich:20230107T103000
DTEND;TZID=Europe/Zurich:20230107T103000
DTSTAMP:20221230T110827Z
URL:https://www.iggh.ch/agenda/neujahrsapero-mit-challenger/
SUMMARY:Neujahrsapero mit Challenger
DESCRIPTION:2023_1_Neujahrapero
CATEGORIES:Veranstaltung
END:VEVENT
BEGIN:VTIMEZONE
TZID:Europe/Zurich
X-LIC-LOCATION:Europe/Zurich
BEGIN:STANDARD
DTSTART:20221030T020000
TZOFFSETFROM:+0200
TZOFFSETTO:+0100
TZNAME:CET
END:STANDARD
END:VTIMEZONE
END:VCALENDAR