BEGIN:VCALENDAR
VERSION:2.0
PRODID:-//wp-events-plugin.com//6.6.5//EN
TZID:Europe/Zurich
X-WR-TIMEZONE:Europe/Zurich
BEGIN:VEVENT
UID:4576@iggh.ch
DTSTART;TZID=Europe/Zurich:20250122T170000
DTEND;TZID=Europe/Zurich:20250122T170000
DTSTAMP:20250122T091737Z
URL:https://www.iggh.ch/agenda/neujahrsapero-4/
SUMMARY:Neujahrsapéro
DESCRIPTION:Wir möchten das neue Jahr mit Ihnen anstossen. Deshalb laden w
 ir Sie zerzlich zum Apèro ein. Keine Anmeldungen nötig. Einfach vorbeiko
 mmen.
CATEGORIES:Veranstaltung
END:VEVENT
BEGIN:VTIMEZONE
TZID:Europe/Zurich
X-LIC-LOCATION:Europe/Zurich
BEGIN:STANDARD
DTSTART:20241027T020000
TZOFFSETFROM:+0200
TZOFFSETTO:+0100
TZNAME:CET
END:STANDARD
END:VTIMEZONE
END:VCALENDAR