BEGIN:VCALENDAR
VERSION:2.0
PRODID:-//wp-events-plugin.com//6.6.5//EN
TZID:Europe/Zurich
X-WR-TIMEZONE:Europe/Zurich
BEGIN:VEVENT
UID:5622@iggh.ch
DTSTART;TZID=Europe/Zurich:20260505T180000
DTEND;TZID=Europe/Zurich:20260505T210000
DTSTAMP:20260421T115739Z
URL:https://www.iggh.ch/agenda/mv-2026/
SUMMARY:Mitgliederversammlung IGGH am 05. Mai 2026
DESCRIPTION:Die Einladung zur Mitgliederversammlung der IGGH erhalten die M
 itglieder per E-Mail.\n\nInteressierte können sich per E-Mail an die Gesc
 häftsstelle wenden: info@iggh.ch.\n\n&nbsp\;
ATTACH;FMTTYPE=image/jpeg:https://www.iggh.ch/wp-content/uploads/2025/05/M
 V2025_06.jpg
CATEGORIES:Gebärdensprach-Dolmetschdienst,Induktive
 Höranlage,Mitgliederversammlung IGGH,Veranstaltung
END:VEVENT
BEGIN:VTIMEZONE
TZID:Europe/Zurich
X-LIC-LOCATION:Europe/Zurich
BEGIN:DAYLIGHT
DTSTART:20260329T030000
TZOFFSETFROM:+0100
TZOFFSETTO:+0200
TZNAME:CEST
END:DAYLIGHT
END:VTIMEZONE
END:VCALENDAR