BEGIN:VCALENDAR
VERSION:2.0
PRODID:-//wp-events-plugin.com//6.6.5//EN
TZID:Europe/Zurich
X-WR-TIMEZONE:Europe/Zurich
BEGIN:VEVENT
UID:3117@iggh.ch
DTSTART;TZID=Europe/Zurich:20230914T120000
DTEND;TZID=Europe/Zurich:20230914T120000
DTSTAMP:20230613T113911Z
URL:https://www.iggh.ch/agenda/mittagstisch-29/
SUMMARY:Mittagstisch
DESCRIPTION:\n 	Donnerstag\, 14. September 2023\n 	\n 	Beginn: 12:00\n 	\n\
 nDer Mittagstisch findet nach Menüplan statt. Die Platzanzahl ist beschr
 änkt. Teilnahme nur mit Anmeldung möglich. Wir freuen uns auf Ihren Besu
 ch.\n\n 	Veranstaltungsort: Haus der Kirche\, Altenbergstrasse 66\, Bern\n
 \nInformationen:\nHörbehindertengemeinde Bern\nHaus der Kirche\, Altenber
 gstrasse 66\, 3007 Bern\n031 340 24 24\nSMS 079 811 34 64\nhbg@refbejuso.c
 h\nwww.refbejuso.ch\nwww.gebaerdenkirche.ch
CATEGORIES:Partnerorganisation
END:VEVENT
BEGIN:VTIMEZONE
TZID:Europe/Zurich
X-LIC-LOCATION:Europe/Zurich
BEGIN:DAYLIGHT
DTSTART:20230326T030000
TZOFFSETFROM:+0100
TZOFFSETTO:+0200
TZNAME:CEST
END:DAYLIGHT
END:VTIMEZONE
END:VCALENDAR