BEGIN:VCALENDAR
VERSION:2.0
PRODID:-//wp-events-plugin.com//6.6.5//EN
TZID:Europe/Zurich
X-WR-TIMEZONE:Europe/Zurich
BEGIN:VEVENT
UID:4582@iggh.ch
DTSTART;TZID=Europe/Zurich:20251122T100000
DTEND;TZID=Europe/Zurich:20251122T150000
DTSTAMP:20251209T070636Z
URL:https://www.iggh.ch/agenda/klettern-aarburg/
SUMMARY:Eagle Eye Jugendtreff – Klettern in Aarburg
DESCRIPTION:Hoch hinaus geht’s am Samstag\, 22. November 2025! Jugendlich
 e mit Hörbeeinträchtigung (13–18 Jahre) treffen sich um 10.00 Uhr am B
 ahnhof Olten (zwischen Gleis 4 und 7). Gemeinsam fahren wir zur Kletterhal
 le ISATIS in Aarburg. Nach einem Crashkurs gibt’s Pizza und am Nachmitta
 g freies Klettern. Rückkehr nach Olten um 15.00 Uhr.\n\nMitnehmen: Sportk
 leider\, Trinkflasche\, 5 Franken.\n\nAnmeldung bis 19. November.\n\nFrage
 n? Mail an info@eagleeye-treff.ch oder via Instagram @jugendtreff_eagle_ey
 e.\n\nBegleitung: Yasmin &amp\; Jeanine.\n\nWebseite des Jugendtreffs Eagl
 e Eye
ATTACH;FMTTYPE=image/jpeg:https://www.iggh.ch/wp-content/uploads/2025/01/F
 lyer_22.Nov_Klettern.jpg
CATEGORIES:Kulturelle Veranstaltung
END:VEVENT
BEGIN:VTIMEZONE
TZID:Europe/Zurich
X-LIC-LOCATION:Europe/Zurich
BEGIN:STANDARD
DTSTART:20251026T020000
TZOFFSETFROM:+0200
TZOFFSETTO:+0100
TZNAME:CET
END:STANDARD
END:VTIMEZONE
END:VCALENDAR