BEGIN:VCALENDAR
VERSION:2.0
PRODID:-//wp-events-plugin.com//6.6.5//EN
TZID:Europe/Zurich
X-WR-TIMEZONE:Europe/Zurich
BEGIN:VEVENT
UID:1713@iggh.ch
DTSTART;TZID=Europe/Zurich:20220729T200000
DTEND;TZID=Europe/Zurich:20220729T200000
DTSTAMP:20221014T151707Z
URL:https://www.iggh.ch/agenda/io-senza-te-thunerseespiele/
SUMMARY:Io senza te – Thunerseespiele in Gebärdensprache
DESCRIPTION:Das Musical mit Musik von Peter\, Sue und Marc dreht sich um de
 n 20. Hochzeitstag. Es kriselt heftig in der Ehe von Jean-Rémy\, dem Besi
 tzer der «Bahamas-Bar». Kann er seine Lilly mit der Live-Performance von
  «Io senza te» überraschen?\nInformation der Thunerseespiele\nDie Vorst
 ellung mit Übersetzung in Gebärdensprache findet am Freitag\, 29. Juli 2
 022 um 20.00 Uhr statt. Die Plätze sind in den Sektoren D/E\, Reihen 4–
 7\, reserviert. Der Verschiebedatum (Wetter) ist am Montag oder Dienstag i
 n der Folgewoche.\n\nDamit Gehörlose und Menschen mit Hörbehinderung die
  Übersetzung des Musicals in Gebärdensprache in vollen Zügen geniessen 
 können\, veröffentlichen wir vorab ein Video mit den Rollenbeschrieben. 
 So lernen Sie die Charaktere und deren Namen in Gebärdensprache bereits v
 or Ihrem Musicalbesuch kennen. Der Link zum Video folgt im Juni 2022.\n\nD
 ie Tickets der reservierten Plätze kosten zwischen 70 und 150 Franken\, u
 nd werden bei Reservation via E-Mail an ticketing@fbm.ch um 50 % reduziert
 .\nWie reserviere ich einen Platz?\n1. Zuerst im Saalplan nachsehen\, welc
 he Platznummer frei sind.\nLink zum Saalplan vom Freitagabend 29. Juli 202
 2.\n\n2. Die Platznummer via E-Mail an ticketing@fbm.ch mitteilen\, ob sie
  frei sind.\nLink zu weiteren Informationen der Thunerseespiele.
ATTACH;FMTTYPE=image/jpeg:https://www.iggh.ch/wp-content/uploads/2022/01/I
 O-SENZA-TE_Szenenbild-Boot_22.5x15cm.jpg
CATEGORIES:Gebärdensprach-Dolmetschdienst,Kulturelle
 Veranstaltung,Partnerorganisation
END:VEVENT
BEGIN:VTIMEZONE
TZID:Europe/Zurich
X-LIC-LOCATION:Europe/Zurich
BEGIN:DAYLIGHT
DTSTART:20220327T030000
TZOFFSETFROM:+0100
TZOFFSETTO:+0200
TZNAME:CEST
END:DAYLIGHT
END:VTIMEZONE
END:VCALENDAR