BEGIN:VCALENDAR
VERSION:2.0
PRODID:-//wp-events-plugin.com//6.6.5//EN
TZID:Europe/Zurich
X-WR-TIMEZONE:Europe/Zurich
BEGIN:VEVENT
UID:5628@iggh.ch
DTSTART;TZID=Europe/Zurich:20260502T140000
DTEND;TZID=Europe/Zurich:20260502T160000
DTSTAMP:20260424T153648Z
URL:https://www.iggh.ch/agenda/inklusion/
SUMMARY:Nationale Kundgebung: Nichts über uns – Ohne uns!
DESCRIPTION:Am 2. Mai 2026 versammeln wir uns auf dem Helvetiaplatz\, um ge
 meinsam für die Gleichstellung von Menschen mit Behinderungen einzustehen
 .\n\nSei dabei! Die Kundgebung wird von einer Gruppe von Selbstvertreter:i
 nnen organisiert und von verschiedenen Organisationen unterstützt.\n\nAll
 e Reden werden in Gebärdensprache übersetzt und ein Live-Stream wird liv
 e untertitelt.\n\nPDF Flyer Kundgebung
ATTACH;FMTTYPE=image/jpeg:https://www.iggh.ch/wp-content/uploads/2026/04/S
 creenshot-2026-04-24-163557.jpg
CATEGORIES:Gebärdensprache DSGS,Kulturelle Veranstaltung,Live-Mitschrift
END:VEVENT
BEGIN:VTIMEZONE
TZID:Europe/Zurich
X-LIC-LOCATION:Europe/Zurich
BEGIN:DAYLIGHT
DTSTART:20260329T030000
TZOFFSETFROM:+0100
TZOFFSETTO:+0200
TZNAME:CEST
END:DAYLIGHT
END:VTIMEZONE
END:VCALENDAR