BEGIN:VCALENDAR
VERSION:2.0
PRODID:-//wp-events-plugin.com//6.6.5//EN
TZID:Europe/Zurich
X-WR-TIMEZONE:Europe/Zurich
BEGIN:VEVENT
UID:3452@iggh.ch
DTSTART;TZID=Europe/Zurich:20231002T180000
DTEND;TZID=Europe/Zurich:20231002T180000
DTSTAMP:20231016T130003Z
URL:https://www.iggh.ch/agenda/informationsabend-zur-abstimmung/
SUMMARY:Informationsabend zur Abstimmung
DESCRIPTION:Kandidierende für den National- und Ständerat wählen\, wie g
 eht das?\nInformationen in Gebärdensprache - Es gibt Zeit\, Fragen zu ste
 llen.\n\nWir können bis am 22. Oktober 2023 für den National- und Ständ
 erat wählen. Leider gibt es zu diesem Thema nur wenige Informationen in G
 ebärdensprache. Daher bieten wir diesen Informationsabend in Gebärdenspr
 ache an.\n\nDas Ziel ist\, dass Sie sich selbst eine Meinung bilden und zu
  Hause den Wahlzettel ausfüllen können.\n\nAm Abend wird Viktor Buser er
 klären\, wie man wählen kann.\n\nInhalte\n\n 	Wie viele Sitze stehen dem
  Kanton Bern zu?\n 	Wie kann ich einer Politikerin oder einem Politiker zw
 ei Mal eine Stimme geben?\n 	Was heisst «panaschieren»?\n 	Was ist die 
 «Behindertenliste» von Pro Infirmis?\n\nReferent: Viktor Buser\n\nDas Re
 ferat ist in Gebärdensprache. Bitte melden Sie sich\, wenn Sie eine Über
 setzung in Lautsprache wünschen.\n\nAnmeldung: Anmeldung bis spätestens 
 25. September 2023 an mirjam.muenger@bfsug.ch
ATTACH;FMTTYPE=image/jpeg:https://www.iggh.ch/wp-content/uploads/2023/07/R
 atssaal_Bundeshaus.jpg
CATEGORIES:Kommunikation: Gebärdensprache,Kulturelle
 Veranstaltung,Veranstaltung
END:VEVENT
BEGIN:VTIMEZONE
TZID:Europe/Zurich
X-LIC-LOCATION:Europe/Zurich
BEGIN:DAYLIGHT
DTSTART:20230326T030000
TZOFFSETFROM:+0100
TZOFFSETTO:+0200
TZNAME:CEST
END:DAYLIGHT
END:VTIMEZONE
END:VCALENDAR