BEGIN:VCALENDAR
VERSION:2.0
PRODID:-//wp-events-plugin.com//6.6.5//EN
TZID:Europe/Zurich
X-WR-TIMEZONE:Europe/Zurich
BEGIN:VEVENT
UID:409@iggh.ch
DTSTART;TZID=Europe/Zurich:20210911T091500
DTEND;TZID=Europe/Zurich:20210911T091500
DTSTAMP:20210826T164444Z
URL:https://www.iggh.ch/agenda/herbstwanderung-gscb/
SUMMARY:GSCB Herbstwanderung
DESCRIPTION:\n\n\nHerbstwanderung\n\n\n\nSörenberg – Rossweid - Kemmenri
 edboden\n\nSamstag\, 11. September 2021\n\nSchöner Wanderausflug der einf
 acheren Wegart von Sörenberg/Rossweid\nvia Salwideli nach Kemmeriboden mi
 t herrlichem Abschluss.\n\nWanderzeit:           2 ½ Std.\n\nTre
 ffpunkt:            Hauptbahnhof Bern\, 9.15 Uhr\n\nAnreise Bahn
 :       Bern ab 9:36 Uhr nach Sörenberg Post an 10.57 Uhr.\n\nBillet
 t:                     Jeder löst selber.\n\nMitbringe
 n:           Picknick\, gute Schuhe und gute Laune mit.\n\nAnmeld
 en:             Frei und spontan mitmachen.\n\nWitterung:   
           Es werden bei jedem Wetter mitgemacht.\n\nWer Fragen ha
 t\, kann sich bei mir melden: info@gscb.ch oder SMS: 079 250 02 45
CATEGORIES:Veranstaltung
END:VEVENT
BEGIN:VTIMEZONE
TZID:Europe/Zurich
X-LIC-LOCATION:Europe/Zurich
BEGIN:DAYLIGHT
DTSTART:20210328T030000
TZOFFSETFROM:+0100
TZOFFSETTO:+0200
TZNAME:CEST
END:DAYLIGHT
END:VTIMEZONE
END:VCALENDAR