BEGIN:VCALENDAR
VERSION:2.0
PRODID:-//wp-events-plugin.com//6.6.5//EN
TZID:Europe/Zurich
X-WR-TIMEZONE:Europe/Zurich
BEGIN:VEVENT
UID:2310@iggh.ch
DTSTART;TZID=Europe/Zurich:20220907T123000
DTEND;TZID=Europe/Zurich:20220907T123000
DTSTAMP:20220804T091049Z
URL:https://www.iggh.ch/agenda/halb-eins-wort-musik-stille-5/
SUMMARY:Halb eins - Wort Musik Stille
DESCRIPTION:Pfarrerin Annemarie Hänni\nEine Dolmetscherin wird in Gebärde
 nsprache übersetzen.
CATEGORIES:Veranstaltung
END:VEVENT
BEGIN:VTIMEZONE
TZID:Europe/Zurich
X-LIC-LOCATION:Europe/Zurich
BEGIN:DAYLIGHT
DTSTART:20220327T030000
TZOFFSETFROM:+0100
TZOFFSETTO:+0200
TZNAME:CEST
END:DAYLIGHT
END:VTIMEZONE
END:VCALENDAR