BEGIN:VCALENDAR
VERSION:2.0
PRODID:-//wp-events-plugin.com//6.6.5//EN
TZID:Europe/Zurich
X-WR-TIMEZONE:Europe/Zurich
BEGIN:VEVENT
UID:3961@iggh.ch
DTSTART;TZID=Europe/Zurich:20250225T133000
DTEND;TZID=Europe/Zurich:20250225T163000
DTSTAMP:20250201T092619Z
URL:https://www.iggh.ch/agenda/gvb-unna-85/
SUMMARY:GVB-UNNA
DESCRIPTION:In dem UNNA - Spiele sind alle herzlich willkommen\n\nLeitung: 
 Leiterin Anny Geisser
CATEGORIES:Veranstaltung
END:VEVENT
BEGIN:VTIMEZONE
TZID:Europe/Zurich
X-LIC-LOCATION:Europe/Zurich
BEGIN:STANDARD
DTSTART:20241027T020000
TZOFFSETFROM:+0200
TZOFFSETTO:+0100
TZNAME:CET
END:STANDARD
END:VTIMEZONE
END:VCALENDAR