BEGIN:VCALENDAR
VERSION:2.0
PRODID:-//wp-events-plugin.com//6.6.5//EN
TZID:Europe/Zurich
X-WR-TIMEZONE:Europe/Zurich
BEGIN:VEVENT
UID:2728@iggh.ch
DTSTART;TZID=Europe/Zurich:20230816T141500
DTEND;TZID=Europe/Zurich:20230816T141500
DTSTAMP:20230703T095950Z
URL:https://www.iggh.ch/agenda/gvb-seniorentreff-25/
SUMMARY:GVB - SeniorenTreff
DESCRIPTION:SeniorenTreff im Clubraum\, Walkerhaus Bern\n\nAlle sind herzli
 ch Willkommen!\n\nLeitung: Franziska Roos
CATEGORIES:Veranstaltung
END:VEVENT
BEGIN:VTIMEZONE
TZID:Europe/Zurich
X-LIC-LOCATION:Europe/Zurich
BEGIN:DAYLIGHT
DTSTART:20230326T030000
TZOFFSETFROM:+0100
TZOFFSETTO:+0200
TZNAME:CEST
END:DAYLIGHT
END:VTIMEZONE
END:VCALENDAR