BEGIN:VCALENDAR
VERSION:2.0
PRODID:-//wp-events-plugin.com//6.6.5//EN
TZID:Europe/Zurich
X-WR-TIMEZONE:Europe/Zurich
BEGIN:VEVENT
UID:3955@iggh.ch
DTSTART;TZID=Europe/Zurich:20250319T143000
DTEND;TZID=Europe/Zurich:20250319T173000
DTSTAMP:20250201T101113Z
URL:https://www.iggh.ch/agenda/gvb-senioerntreff-3/
SUMMARY:GVB-Seniorentreff
DESCRIPTION:In dem Seniorentreff sind alle herzlich willkommen\n\nLeitung: 
 Präsidentin Yvonne Zaugg
CATEGORIES:Veranstaltung
END:VEVENT
BEGIN:VTIMEZONE
TZID:Europe/Zurich
X-LIC-LOCATION:Europe/Zurich
BEGIN:STANDARD
DTSTART:20241027T020000
TZOFFSETFROM:+0200
TZOFFSETTO:+0100
TZNAME:CET
END:STANDARD
END:VTIMEZONE
END:VCALENDAR