BEGIN:VCALENDAR
VERSION:2.0
PRODID:-//wp-events-plugin.com//6.6.5//EN
TZID:Europe/Zurich
X-WR-TIMEZONE:Europe/Zurich
BEGIN:VEVENT
UID:3951@iggh.ch
DTSTART;TZID=Europe/Zurich:20250302T093000
DTEND;TZID=Europe/Zurich:20250302T140000
DTSTAMP:20250201T092811Z
URL:https://www.iggh.ch/agenda/gvb-brunch-3/
SUMMARY:GVB-Brunch
DESCRIPTION:Flyer und Anmeldung folgt ca. Anfang Januar 2025\n\nLeitung: Pr
 äsidentin Yvonne Zaugg
CATEGORIES:Veranstaltung
END:VEVENT
BEGIN:VTIMEZONE
TZID:Europe/Zurich
X-LIC-LOCATION:Europe/Zurich
BEGIN:STANDARD
DTSTART:20241027T020000
TZOFFSETFROM:+0200
TZOFFSETTO:+0100
TZNAME:CET
END:STANDARD
END:VTIMEZONE
END:VCALENDAR