BEGIN:VCALENDAR
VERSION:2.0
PRODID:-//wp-events-plugin.com//6.6.5//EN
TZID:Europe/Zurich
X-WR-TIMEZONE:Europe/Zurich
BEGIN:VEVENT
UID:2315@iggh.ch
DTSTART;TZID=Europe/Zurich:20220901T140000
DTEND;TZID=Europe/Zurich:20220901T140000
DTSTAMP:20220804T092808Z
URL:https://www.iggh.ch/agenda/gva-seniorentreff-2/
SUMMARY:GVA - SeniorenTreff
DESCRIPTION:SeniorenTreff organisiert Doris Harster.\n\nEs findet statt im\
 n\nRestaurant Glockental\nThunstrasse 24\n3612 Steffisburg\n\nmehr Info be
 i Doris Harster holen.\n\nAlle sind herzlich willkommen
CATEGORIES:Veranstaltung
END:VEVENT
BEGIN:VTIMEZONE
TZID:Europe/Zurich
X-LIC-LOCATION:Europe/Zurich
BEGIN:DAYLIGHT
DTSTART:20220327T030000
TZOFFSETFROM:+0100
TZOFFSETTO:+0200
TZNAME:CEST
END:DAYLIGHT
END:VTIMEZONE
END:VCALENDAR