BEGIN:VCALENDAR
VERSION:2.0
PRODID:-//wp-events-plugin.com//6.6.5//EN
TZID:Europe/Zurich
X-WR-TIMEZONE:Europe/Zurich
BEGIN:VEVENT
UID:3451@iggh.ch
DTSTART;TZID=Europe/Zurich:20240316T100000
DTEND;TZID=Europe/Zurich:20240316T100000
DTSTAMP:20240119T132659Z
URL:https://www.iggh.ch/agenda/gva-generalversammlung/
SUMMARY:GVA - Generalversammlung
DESCRIPTION:Einladung und Traktanden folgt\n\nLeitung: Präsidentin Franzis
 ka Ledermann
CATEGORIES:Veranstaltung
END:VEVENT
BEGIN:VTIMEZONE
TZID:Europe/Zurich
X-LIC-LOCATION:Europe/Zurich
BEGIN:STANDARD
DTSTART:20231029T020000
TZOFFSETFROM:+0200
TZOFFSETTO:+0100
TZNAME:CET
END:STANDARD
END:VTIMEZONE
END:VCALENDAR