BEGIN:VCALENDAR
VERSION:2.0
PRODID:-//wp-events-plugin.com//6.6.5//EN
TZID:Europe/Zurich
X-WR-TIMEZONE:Europe/Zurich
BEGIN:VEVENT
UID:410@iggh.ch
DTSTART;TZID=Europe/Zurich:20220226T133000
DTEND;TZID=Europe/Zurich:20220226T133000
DTSTAMP:20210805T090556Z
URL:https://www.iggh.ch/agenda/gscb-75-gv/
SUMMARY:GSCB 75. GV
DESCRIPTION:
CATEGORIES:Veranstaltung
END:VEVENT
BEGIN:VTIMEZONE
TZID:Europe/Zurich
X-LIC-LOCATION:Europe/Zurich
BEGIN:STANDARD
DTSTART:20211031T020000
TZOFFSETFROM:+0200
TZOFFSETTO:+0100
TZNAME:CET
END:STANDARD
END:VTIMEZONE
END:VCALENDAR