BEGIN:VCALENDAR
VERSION:2.0
PRODID:-//wp-events-plugin.com//6.6.5//EN
TZID:Europe/Zurich
X-WR-TIMEZONE:Europe/Zurich
BEGIN:VEVENT
UID:4700@iggh.ch
DTSTART;TZID=Europe/Zurich:20250604T180000
DTEND;TZID=Europe/Zurich:20250604T210000
DTSTAMP:20250507T100451Z
URL:https://www.iggh.ch/agenda/grill-abend/
SUMMARY:Grillfest und Abschied von Chris und Marlis
DESCRIPTION:Alle sind herzlich willkommen.\n\nAn diesem Grill-Abend feiern 
 wir auch den Abschied von Chris und Marlis. Sie haben viele Jahre in der B
 FSUG gearbeitet und werden diesen Sommer pensioniert.\n\n• Getränke und
  Salate werden offeriert!\n• Grillgut (Fleisch\, Fisch\, Gemüse etc.) s
 elber mitbringen!\n• Wer möchte kann gerne Dessert mitbringen!\n\nHier 
 der Link zum Video zum Grillfest: Grillfest &amp\; Abschied\n\nAnmeldungen
  bis 26.05.2025 an vanessa.michlig@nullbfsug.ch - Herzlichen Dank!\n\n&nbs
 p\;
ATTACH;FMTTYPE=image/jpeg:https://www.iggh.ch/wp-content/uploads/2025/02/2
 025_06_FlyerGrillfest.jpeg
CATEGORIES:Veranstaltung
END:VEVENT
BEGIN:VTIMEZONE
TZID:Europe/Zurich
X-LIC-LOCATION:Europe/Zurich
BEGIN:DAYLIGHT
DTSTART:20250330T030000
TZOFFSETFROM:+0100
TZOFFSETTO:+0200
TZNAME:CEST
END:DAYLIGHT
END:VTIMEZONE
END:VCALENDAR