BEGIN:VCALENDAR
VERSION:2.0
PRODID:-//wp-events-plugin.com//6.6.5//EN
TZID:Europe/Zurich
X-WR-TIMEZONE:Europe/Zurich
BEGIN:VEVENT
UID:3098@iggh.ch
DTSTART;TZID=Europe/Zurich:20230814T193000
DTEND;TZID=Europe/Zurich:20230814T193000
DTSTAMP:20230613T094543Z
URL:https://www.iggh.ch/agenda/gotttesdienst/
SUMMARY:Gotttesdienst
DESCRIPTION:Gottesdienst\n\nMontag\, 14. August 2023\, 19.30Uhr\nStiftung U
 etendorfberg\n\nDiakon Andreas Fankhauser\n\nInformationen:\nHöhrbehinder
 tengemeinde Bern\nHaus der Kirche\, Altenbergstrasse 66\, 3000 Bern\n031 3
 40 24 24\nSMS 079 811 34 64\nhbg@refbejuso.ch\nwww.refbejuso.ch/hbg\nwww.g
 ebaerdenkirche.ch
CATEGORIES:Partnerorganisation
END:VEVENT
BEGIN:VTIMEZONE
TZID:Europe/Zurich
X-LIC-LOCATION:Europe/Zurich
BEGIN:DAYLIGHT
DTSTART:20230326T030000
TZOFFSETFROM:+0100
TZOFFSETTO:+0200
TZNAME:CEST
END:DAYLIGHT
END:VTIMEZONE
END:VCALENDAR