BEGIN:VCALENDAR
VERSION:2.0
PRODID:-//wp-events-plugin.com//6.6.5//EN
TZID:Europe/Zurich
X-WR-TIMEZONE:Europe/Zurich
BEGIN:VEVENT
UID:3045@iggh.ch
DTSTART;TZID=Europe/Zurich:20231219T120000
DTEND;TZID=Europe/Zurich:20231219T120000
DTSTAMP:20230522T110238Z
URL:https://www.iggh.ch/agenda/gleichcom-ag-im-walkerhaus-bern-4/
SUMMARY:Gleichcom AG im Walkerhaus Bern
DESCRIPTION:Die Firma für technische Hilfsmittel \,\,Gleichcom AG” biete
 t bei uns im Walkerhaus Beratung an!\n\nDienstag 20. Juni von 12.00 bis 17
 .30 Uhr\n\nOhne Voranmeldung einfach zu den angegebenen Zeiten vorbeikomme
 n oder mit Voranmeldung Termin fixieren unter:\n\n041 783 00 80 oder info
 @gleichcom.ch
CATEGORIES:Partnerorganisation
END:VEVENT
BEGIN:VTIMEZONE
TZID:Europe/Zurich
X-LIC-LOCATION:Europe/Zurich
BEGIN:STANDARD
DTSTART:20231029T020000
TZOFFSETFROM:+0200
TZOFFSETTO:+0100
TZNAME:CET
END:STANDARD
END:VTIMEZONE
END:VCALENDAR