BEGIN:VCALENDAR
VERSION:2.0
PRODID:-//wp-events-plugin.com//6.6.5//EN
TZID:Europe/Zurich
X-WR-TIMEZONE:Europe/Zurich
BEGIN:VEVENT
UID:3106@iggh.ch
DTSTART;TZID=Europe/Zurich:20230920T163000
DTEND;TZID=Europe/Zurich:20230920T163000
DTSTAMP:20230613T111955Z
URL:https://www.iggh.ch/agenda/gespraechskreis-5/
SUMMARY:Gesprächskreis
DESCRIPTION:Gesprächskreis \,\,Fragen zur Bibel”\n\nMittwoch\, 20. Septe
 mber 2023\, 16.30 Uhr\n\nHaus der Kirche\nAltenbergstrasse 66\, Bern\n\nPf
 arrerin Annemarie Hänni\n\n&nbsp\;\n\nInformationen:\nHöhrbehindertengem
 einde Bern\nHaus der Kirche\, Altenbergstrasse 66\, 3000 Bern\n031 340 24 
 24\nSMS 079 811 34 64\nhbg@refbejuso.ch\nwww.refbejuso.ch/hbg\nwww.gebaerd
 enkirche.ch
CATEGORIES:Partnerorganisation
END:VEVENT
BEGIN:VTIMEZONE
TZID:Europe/Zurich
X-LIC-LOCATION:Europe/Zurich
BEGIN:DAYLIGHT
DTSTART:20230326T030000
TZOFFSETFROM:+0100
TZOFFSETTO:+0200
TZNAME:CEST
END:DAYLIGHT
END:VTIMEZONE
END:VCALENDAR