BEGIN:VCALENDAR
VERSION:2.0
PRODID:-//wp-events-plugin.com//6.6.5//EN
TZID:Europe/Zurich
X-WR-TIMEZONE:Europe/Zurich
BEGIN:VEVENT
UID:3104@iggh.ch
DTSTART;TZID=Europe/Zurich:20230705T180000
DTEND;TZID=Europe/Zurich:20230705T180000
DTSTAMP:20230613T111632Z
URL:https://www.iggh.ch/agenda/gespraechskreis-3/
SUMMARY:Gesprächskreis
DESCRIPTION:Gesprächskreis \,\,Fragen zur Bibel”\n\nMittwoch\, 05.Juli 2
 023\, 18.00 Uhr\nRosengarten\n\nPfarrerin Annemarie Hänni\n\n&nbsp\;\n\nI
 nformationen:\nHöhrbehindertengemeinde Bern\nHaus der Kirche\, Altenbergs
 trasse 66\, 3000 Bern\n031 340 24 24\nSMS 079 811 34 64\nhbg@refbejuso.ch\
 nwww.refbejuso.ch/hbg\nwww.gebaerdenkirche.ch
CATEGORIES:Partnerorganisation
END:VEVENT
BEGIN:VTIMEZONE
TZID:Europe/Zurich
X-LIC-LOCATION:Europe/Zurich
BEGIN:DAYLIGHT
DTSTART:20230326T030000
TZOFFSETFROM:+0100
TZOFFSETTO:+0200
TZNAME:CEST
END:DAYLIGHT
END:VTIMEZONE
END:VCALENDAR