BEGIN:VCALENDAR
VERSION:2.0
PRODID:-//wp-events-plugin.com//6.6.5//EN
TZID:Europe/Zurich
X-WR-TIMEZONE:Europe/Zurich
BEGIN:VEVENT
UID:1712@iggh.ch
DTSTART;TZID=Europe/Zurich:20221215T190000
DTEND;TZID=Europe/Zurich:20221215T190000
DTSTAMP:20220711T102058Z
URL:https://www.iggh.ch/agenda/gebaerdensprache-treffen-fuer-hoerende-erwa
 chsene-2022-12-15/
SUMMARY:ABGESAGT: Gebärdensprache-Treffen für hörende Erwachsene
DESCRIPTION:Achtung: Vorläufig findet dieses Angebot nicht mehr statt. Der
  letzte Termin war am 16. Juni 2022.\nGebärdensprach-Treffen für hörend
 e Erwachsene\nSie haben bereits einen Gebärdensprachkurs besucht\, aber S
 ie wünschen sich die Gebärdensprachkenntnisse zu verbessern oder vertief
 en? Fragen zur Gebärdensprache austauschen? Einfach zusammensitzen und in
  Gebärdensprache kommunizieren? Diskutieren und mit den Händen lachen?\n
 \nDer kostenlose Austausch wird von einer Gebärdensprachausbildnerin gele
 itet.\n\nDie Treffen finden jeweils am Donnerstagabend ab 19.00 Uhr statt.
 \n\nFür interessierte Gebärdensprachanwender.\nFür interessierte Eltern
  von gehörlosen und hörbehinderten Kinder und Jugendliche\nFür Angehör
 ige\n\nFlyer Gebärdensprachtreffen 2022\n\n
ATTACH;FMTTYPE=image/jpeg:https://www.iggh.ch/wp-content/uploads/2021/07/F
 lyer_Gebaerdensprachtreffen_2021.jpg
CATEGORIES:Abgesagt,Gebärdensprache-Treffen
END:VEVENT
BEGIN:VTIMEZONE
TZID:Europe/Zurich
X-LIC-LOCATION:Europe/Zurich
BEGIN:STANDARD
DTSTART:20221030T020000
TZOFFSETFROM:+0200
TZOFFSETTO:+0100
TZNAME:CET
END:STANDARD
END:VTIMEZONE
END:VCALENDAR