BEGIN:VCALENDAR
VERSION:2.0
PRODID:-//wp-events-plugin.com//6.6.5//EN
TZID:Europe/Zurich
X-WR-TIMEZONE:Europe/Zurich
BEGIN:VEVENT
UID:2314@iggh.ch
DTSTART;TZID=Europe/Zurich:20220910T133000
DTEND;TZID=Europe/Zurich:20220910T133000
DTSTAMP:20220804T091621Z
URL:https://www.iggh.ch/agenda/flinke-wiesel-4/
SUMMARY:Flinke Wiesel
DESCRIPTION:Besuch Seilpark\n\nAnmeldung an cornelia.knuchel@refbejuso.ch\n
 Name / Vorname / Anzahl Personen\nbis 5. September!
CATEGORIES:Veranstaltung
END:VEVENT
BEGIN:VTIMEZONE
TZID:Europe/Zurich
X-LIC-LOCATION:Europe/Zurich
BEGIN:DAYLIGHT
DTSTART:20220327T030000
TZOFFSETFROM:+0100
TZOFFSETTO:+0200
TZNAME:CEST
END:DAYLIGHT
END:VTIMEZONE
END:VCALENDAR