BEGIN:VCALENDAR
VERSION:2.0
PRODID:-//wp-events-plugin.com//6.6.5//EN
TZID:Europe/Zurich
X-WR-TIMEZONE:Europe/Zurich
BEGIN:VEVENT
UID:731@iggh.ch
DTSTART;TZID=Europe/Zurich:20211128T140000
DTEND;TZID=Europe/Zurich:20211128T140000
DTSTAMP:20210930T130139Z
URL:https://www.iggh.ch/agenda/erster-adventsgottesdienst/
SUMMARY:Erster Adventsgottesdienst
DESCRIPTION:Mit Diakon Andreas Fankhauser\, Cornelia Knuchel und Hans Ries.
CATEGORIES:Veranstaltung
END:VEVENT
BEGIN:VTIMEZONE
TZID:Europe/Zurich
X-LIC-LOCATION:Europe/Zurich
BEGIN:STANDARD
DTSTART:20211031T020000
TZOFFSETFROM:+0200
TZOFFSETTO:+0100
TZNAME:CET
END:STANDARD
END:VTIMEZONE
END:VCALENDAR