BEGIN:VCALENDAR
VERSION:2.0
PRODID:-//wp-events-plugin.com//6.6.5//EN
TZID:Europe/Zurich
X-WR-TIMEZONE:Europe/Zurich
BEGIN:VEVENT
UID:3993@iggh.ch
DTSTART;TZID=Europe/Zurich:20240229T180000
DTEND;TZID=Europe/Zurich:20240229T180000
DTSTAMP:20240124T104549Z
URL:https://www.iggh.ch/agenda/die-pensionskasse-zweite-saeule/
SUMMARY:Die Pensionskasse (zweite Säule)
DESCRIPTION:Die Pensionskasse ist ein Teil der Altersvorsorge. Sie ist eine
  Ergänzung zur AHV-Rente. Das Ziel ist\, dass der gewohnte Lebensstandard
  weitergeführt werden kann.\n\nArbeitnehmende sind ab einem bestimmten Ei
 nkommen über ihren Arbeitgeber oder ihre Arbeitgeberin bei einer Pensions
 kasse versichert. Für selbständig Erwerbende ist die Pensionskasse freiw
 illig.\n\nZur Pensionskasse gibt es viele Fragen. Viktor Buser erklärt di
 e Pensionskasse in Gebärdensprache. Es gibt Zeit\, Fragen zu stellen.\n\n
 Inhalte\n\n 	Wer ist versichert?\n 	Was passiert\, wenn ich die Stelle wec
 hsle\, und wenn ich keine neue Arbeit finde?\n 	Wie kann ich den Pensionsk
 assen-Ausweis verstehen?\n 	Wie hoch ist der Umwandlungssatz im Moment?\n 
 	Welche Vor- und Nachteile hat eine Rente oder ein Kapital-Bezug aus der P
 ensionskasse?\n 	Welche Vor- und Nachteile hat es\, wenn ich eine Wohnung 
 oder ein Haus mit dem Geld aus der 2. Säule bezahle?\n\nAnmeldung bis sp
 ätestens 22. Februar 2024 an mirjam.muenger@bfsug.ch\n\nBildquelle: Pixab
 ay
ATTACH;FMTTYPE=image/jpeg:https://www.iggh.ch/wp-content/uploads/2024/01/2
 024_02_29_Foto.jpg
CATEGORIES:Veranstaltung
END:VEVENT
BEGIN:VTIMEZONE
TZID:Europe/Zurich
X-LIC-LOCATION:Europe/Zurich
BEGIN:STANDARD
DTSTART:20231029T020000
TZOFFSETFROM:+0200
TZOFFSETTO:+0100
TZNAME:CET
END:STANDARD
END:VTIMEZONE
END:VCALENDAR