BEGIN:VCALENDAR
VERSION:2.0
PRODID:-//wp-events-plugin.com//6.6.5//EN
TZID:Europe/Zurich
X-WR-TIMEZONE:Europe/Zurich
BEGIN:VEVENT
UID:4584@iggh.ch
DTSTART;TZID=Europe/Zurich:20250304T193000
DTEND;TZID=Europe/Zurich:20250304T193000
DTSTAMP:20250329T153137Z
URL:https://www.iggh.ch/agenda/buehnen-bern-james-brown-trug-lockenwickler
 /
SUMMARY:Bühnen Bern: James Brown trug Lockenwickler
DESCRIPTION:Yasmina Reza\, die meistgespielte zeitgenössische Dramatikerin
 \, ist bekannt für ihre bissigen Gesellschaftstragikomödien\, die mit sc
 harfsinnigem Humor und tiefgründiger Gesellschaftskritik begeistern. Die 
 Idee dazu fand Reza bei einer Buchlektüre: «In einem Kapitel in «Glück
 lich die Glücklichen» erzählte Pascaline Hutner\, wie sie und ihr Mann 
 Lionel zusehen mussten\, wie sich ihr Sohn Jacob nach und nach in Céline 
 Dion verwandelte.»\nInszeniert wird das erstmals in der Schweiz aufgefüh
 rter Werk von Stephan Kimmig\, einem vielfach ausgezeichneten Regisseur\, 
 der für seine tiefgehenden und kreativen Umsetzungen bekannt ist. Das Pub
 likum darf sich auf eine packende und humorvolle Aufführung freuen\, die 
 zugleich zum Nachdenken anregt.\n\nSchauspiel mit deutschen Übertiteln. E
 ine FM-Höranlage steht zur Verfügung.\n\nSpieldaten: 25.02.2025 bis 05.0
 4.2025\n\nMehr Informationen und Ticketkauf unter www.buehnenbern.ch\n\nMe
 hr Informationen zur Höranlage\nFoto: Copyright Florian Spring
ATTACH;FMTTYPE=image/jpeg:https://www.iggh.ch/wp-content/uploads/2025/01/7
 _james_brown_trug_lockenwickler_780-scaled.jpg
CATEGORIES:FM-Höranlage,Kulturelle Veranstaltung,Übertitelung
END:VEVENT
BEGIN:VTIMEZONE
TZID:Europe/Zurich
X-LIC-LOCATION:Europe/Zurich
BEGIN:STANDARD
DTSTART:20241027T020000
TZOFFSETFROM:+0200
TZOFFSETTO:+0100
TZNAME:CET
END:STANDARD
END:VTIMEZONE
END:VCALENDAR