BEGIN:VCALENDAR
VERSION:2.0
PRODID:-//wp-events-plugin.com//6.6.5//EN
TZID:Europe/Zurich
X-WR-TIMEZONE:Europe/Zurich
BEGIN:VEVENT
UID:2997@iggh.ch
DTSTART;TZID=Europe/Zurich:20230531T193000
DTEND;TZID=Europe/Zurich:20230531T193000
DTSTAMP:20230605T142545Z
URL:https://www.iggh.ch/agenda/beweggrund-festivaleroeffnung-und-formes-de
 -vie/
SUMMARY:BewegGrund: Festivaleröffnung und Forme(s) de vie
DESCRIPTION:Alec von Grafenried\, Stadtpräsident von Bern\, eröffnet mit 
 seiner Ansprache das Festival BewegGrund. Seine Rede wird in Gebärdenspra
 che übersetzt.\n\n\n\nForme(s) de vie: Welche Gesten würdest Du beibehal
 ten\, wenn jede Bewegung zu einer Herausforderung\, zu einem Kampf werden 
 würde\, der Deine ganze Aufmerksamkeit erfordert? In Forme(s) de vie knü
 pfen zwei Performer*innen mit eingeschränkter Mobilität\, ein ehemaliger
  Profiboxer und eine Tänzerin\, an ihre frühere Bewegungspraxis an.\n\n\
 n\nPDF Flyer Festival Beweggrund\nMehr Information von BewegGrund\nFoto: E
 lise Yumiko
ATTACH;FMTTYPE=image/jpeg:https://www.iggh.ch/wp-content/uploads/2023/05/S
 creenshot-2023-05-08-152053.png
CATEGORIES:Gebärdensprache DSGS,Kulturelle Veranstaltung
END:VEVENT
BEGIN:VTIMEZONE
TZID:Europe/Zurich
X-LIC-LOCATION:Europe/Zurich
BEGIN:DAYLIGHT
DTSTART:20230326T030000
TZOFFSETFROM:+0100
TZOFFSETTO:+0200
TZNAME:CEST
END:DAYLIGHT
END:VTIMEZONE
END:VCALENDAR