BEGIN:VCALENDAR
VERSION:2.0
PRODID:-//wp-events-plugin.com//6.6.5//EN
TZID:Europe/Zurich
X-WR-TIMEZONE:Europe/Zurich
BEGIN:VEVENT
UID:2998@iggh.ch
DTSTART;TZID=Europe/Zurich:20230601T200000
DTEND;TZID=Europe/Zurich:20230601T200000
DTSTAMP:20230605T142526Z
URL:https://www.iggh.ch/agenda/beweggrund-festivaleroeffnung-und-formes-de
 -vie-2/
SUMMARY:BewegGrund: Une tentative presque comme une autre
DESCRIPTION:Guillaume und Clément Papachristou sind Zwillingsbrüder. Wenn
  zwei Menschen so sehr miteinander verbunden sind\, wirft das Fragen auf 
 – nach der eigenen Individualität\, dem Anderssein und der vertrauten F
 remdheit des Gegenübers. Guillaume wird im Gegensatz zu seinem Bruder Cle
 ment mit einer Zerebralparese geboren. Mit Une tentative presque comme une
  autre widmen die beiden ihrer Beziehung ein intimes Duett. \n\n\n\nIn fra
 nzösischer Sprache mit deutschen Übertiteln und Gebärdensprache.\n\nPDF
  Flyer Festival Beweggrund\nMehr Information von BewegGrund
ATTACH;FMTTYPE=image/jpeg:https://www.iggh.ch/wp-content/uploads/2023/05/S
 creenshot-2023-05-08-112636.png
CATEGORIES:Gebärdensprache DSGS,Kulturelle Veranstaltung
END:VEVENT
BEGIN:VTIMEZONE
TZID:Europe/Zurich
X-LIC-LOCATION:Europe/Zurich
BEGIN:DAYLIGHT
DTSTART:20230326T030000
TZOFFSETFROM:+0100
TZOFFSETTO:+0200
TZNAME:CEST
END:DAYLIGHT
END:VTIMEZONE
END:VCALENDAR