BEGIN:VCALENDAR
VERSION:2.0
PRODID:-//wp-events-plugin.com//6.6.5//EN
TZID:Europe/Zurich
X-WR-TIMEZONE:Europe/Zurich
BEGIN:VEVENT
UID:4548@iggh.ch
DTSTART;TZID=Europe/Zurich:20250519T183000
DTEND;TZID=Europe/Zurich:20250519T200000
DTSTAMP:20250220T091148Z
URL:https://www.iggh.ch/agenda/bern-tinnitusgruppe-montag-2025-05-19/
SUMMARY:Bern – Tinnitusgruppe Montag
DESCRIPTION:Tinnitusgruppe Bern Montag\n\nLeitung\nMartin Niederhauser\n\nD
 aten\nMontag\, 27.01. / 24.02. / 24.03. / 28.04. / 19.05. / 23.06.2025\n\
 nDauer\n18.30 - 20.00 Uhr\n\nOrt\nSiemenshaus\, Belpstrasse 26\, 3007 Bern
 \n\nKosten\nKostenlos\n\nAnmeldung\nInteressenten (auch Angehörige) sind 
 jederzeit willkommen. Wir bitten um eine Anmeldung bei Martin Niederhauser
 .
ATTACH;FMTTYPE=image/jpeg:https://www.iggh.ch/wp-content/uploads/2021/08/A
 dobeStock_216379246-scaled.jpeg
CATEGORIES:Tinnitusgruppen
END:VEVENT
BEGIN:VTIMEZONE
TZID:Europe/Zurich
X-LIC-LOCATION:Europe/Zurich
BEGIN:DAYLIGHT
DTSTART:20250330T030000
TZOFFSETFROM:+0100
TZOFFSETTO:+0200
TZNAME:CEST
END:DAYLIGHT
END:VTIMEZONE
END:VCALENDAR