BEGIN:VCALENDAR
VERSION:2.0
PRODID:-//wp-events-plugin.com//6.6.5//EN
TZID:Europe/Zurich
X-WR-TIMEZONE:Europe/Zurich
BEGIN:VEVENT
UID:3792@iggh.ch
DTSTART;TZID=Europe/Zurich:20231219T130000
DTEND;TZID=Europe/Zurich:20231219T130000
DTSTAMP:20240125T092538Z
URL:https://www.iggh.ch/agenda/ausstellung-von-gleichcom-ag-im-walkerhaus-
 am-19-dezember-2023/
SUMMARY:VERSCHOBEN: Ausstellung von Gleichcom AG im Walkerhaus am 19. Dezem
 ber 2023
DESCRIPTION:Leider kann die Veranstaltung am 19. Dezember 2023 nicht stattf
 inden und wird auf 2024 verschoben.\nMöchten Sie sich über Ihr Cochlea-I
 mplantat\, über eine anstehende CI-Operation\, oder den Zubehörmöglichk
 eiten informieren? Möchten Sie sich über die aktuellsten Hörlösungen i
 nformieren? Haben Sie aufgrund Ihrer Hör- oder Sehbeeinträchtigung Mühe
 \, oder Einschränkungen am Arbeitsplatz und möchten Sie Abhilfe schaffen
 ? Möchten Sie Ihr Zuhause mit Signalanlagen ausstatten\, um akustische Si
 gnale in haptische\, oder optische Signale umzuwandeln?\n\nDann kommen Sie
  bei uns im Walkerhaus vorbei\, wo wir Sie gerne in entspannter Atmosphär
 e beraten.\n\nDie nächsten Termine:\n\n 	Dienstag\, 19. Dezember 2023\, 1
 3.00 - 17.30 Uhr\n\n\nPDF Flyer Gleichcom AG\n\n&nbsp\;\n\n&nbsp\;
ATTACH;FMTTYPE=image/jpeg:https://www.iggh.ch/wp-content/uploads/2023/01/G
 leichcom_Logo.jpg
CATEGORIES:Abgesagt,Veranstaltung
END:VEVENT
BEGIN:VTIMEZONE
TZID:Europe/Zurich
X-LIC-LOCATION:Europe/Zurich
BEGIN:STANDARD
DTSTART:20231029T020000
TZOFFSETFROM:+0200
TZOFFSETTO:+0100
TZNAME:CET
END:STANDARD
END:VTIMEZONE
END:VCALENDAR