BEGIN:VCALENDAR
VERSION:2.0
PRODID:-//wp-events-plugin.com//6.6.5//EN
TZID:Europe/Zurich
X-WR-TIMEZONE:Europe/Zurich
BEGIN:VEVENT
UID:4088@iggh.ch
DTSTART;TZID=Europe/Zurich:20240523T200000
DTEND;TZID=Europe/Zurich:20240523T200000
DTSTAMP:20240406T085508Z
URL:https://www.iggh.ch/agenda/auawirleben_festival-steps/
SUMMARY:auawirleben Theaterfestival Bern: Five Steps
DESCRIPTION:In den letzten zehn Jahren hat Victoria Lomasko mit ihren Grafi
 ken und Wandbildern immer wieder ein Gegenargument zur offiziellen russisc
 hen Berichterstattung geliefert. Mit Stift und Papier schilderte sie Situa
 tionen und Proteste in verschiedenen russischen Städten und schuf so ein 
 unschätzbares politisches Gegenarchiv.\n\nLomasko\, die in Russland mehre
 re Jahre lang unter Druck stand\, verliess kurz nach Putins Einmarsch in d
 ie Ukraine das Land. Sie wusste\, dass sie in Moskau noch mehr zur Zielsch
 eibe werden wird. Sie flüchtete zunächst nach Brüssel\, dann nach Deuts
 chland. Trotz ihrer Position als politische Gegnerin Putins\, wird sie im 
 Westen aufgrund ihres russischen Passes bisweilen ausgegrenzt.\n\nMit deut
 schen Übertiteln\n\n\nInformation und Anmeldung auf www.auawirleben.ch\n\
 n&nbsp\;\n\nWeitere Anlässe des auawirleben Theaterfestivals vom 22. bis 
 30. Mai 2024 sind hier aufgelistet\, ebenfalls mit Gebärdensprach-Dolmets
 chdienst und/oder deutsche Übertitelung.\n\nVorschau kulturelle Veranstal
 tungen
ATTACH;FMTTYPE=image/jpeg:https://www.iggh.ch/wp-content/uploads/2024/04/a
 uawirleben_2024_keyvisual_website_quer-1712237640-scaled.jpg
CATEGORIES:Kulturelle Veranstaltung,Übertitelung
END:VEVENT
BEGIN:VTIMEZONE
TZID:Europe/Zurich
X-LIC-LOCATION:Europe/Zurich
BEGIN:DAYLIGHT
DTSTART:20240331T030000
TZOFFSETFROM:+0100
TZOFFSETTO:+0200
TZNAME:CEST
END:DAYLIGHT
END:VTIMEZONE
END:VCALENDAR