BEGIN:VCALENDAR
VERSION:2.0
PRODID:-//wp-events-plugin.com//6.6.5//EN
TZID:Europe/Zurich
X-WR-TIMEZONE:Europe/Zurich
BEGIN:VEVENT
UID:407@iggh.ch
DTSTART;TZID=Europe/Zurich:20210813T190000
DTEND;TZID=Europe/Zurich:20210813T190000
DTSTAMP:20210805T085705Z
URL:https://www.iggh.ch/agenda/74-gv-gscb/
SUMMARY:GSCB 74. GV
DESCRIPTION:
CATEGORIES:Veranstaltung
END:VEVENT
BEGIN:VTIMEZONE
TZID:Europe/Zurich
X-LIC-LOCATION:Europe/Zurich
BEGIN:DAYLIGHT
DTSTART:20210328T030000
TZOFFSETFROM:+0100
TZOFFSETTO:+0200
TZNAME:CEST
END:DAYLIGHT
END:VTIMEZONE
END:VCALENDAR